BEGIN:VCALENDAR
VERSION:2.0
PRODID:https://www.schwaebisch-gmuend.de
CALSCALE:GREGORIAN
BEGIN:VEVENT
DTSTART:20260717T200000
DTEND:20260717T200000
LOCATION:Münsterplatz, Münsterplatz , 73525 Schwäbisch Gmünd
DTSTAMP:20260309T094411
SUMMARY:Performance zur Festival-Eröffnung
URL;VALUE=URI:https:/www.kirchenmusik-festival.de/veranstaltung/performance-zur-festival-eroeffnung-4.html
DESCRIPTION:Festival Europäische Kirchenmusik
UID:20260309T094411-20260717T200000-20260717T200000
END:VEVENT
END:VCALENDAR