BEGIN:VCALENDAR
VERSION:2.0
PRODID:https://www.schwaebisch-gmuend.de
CALSCALE:GREGORIAN
BEGIN:VEVENT
DTSTART:20260809T103000
DTEND:20260809T103000
LOCATION:Augustinuskirche, Augustinerstraße 4, 73525 Schwäbisch Gmünd
DTSTAMP:20260309T094441
SUMMARY:Ökumenischer Schlussgottesdienst
URL;VALUE=URI:https:/www.kirchenmusik-festival.de/veranstaltung/oekumenischer-schlussgottesdienst-5.html
DESCRIPTION:Festival Europäische Kirchenmusik
UID:20260309T094441-20260809T103000-20260809T103000
END:VEVENT
END:VCALENDAR