BEGIN:VCALENDAR
VERSION:2.0
PRODID:https://www.schwaebisch-gmuend.de
CALSCALE:GREGORIAN
BEGIN:VEVENT
DTSTART:20260717T183000
DTEND:20260717T183000
LOCATION:Heilig-Kreuz-Münster, Münsterplatz 1, 73525 Schwäbisch Gmünd
DTSTAMP:20260309T094409
SUMMARY:Ökumenischer Eröffnungsgottesdienst im Münster
URL;VALUE=URI:
DESCRIPTION:Festival Europäische Kirchenmusik
UID:20260309T094409-20260717T183000-20260717T183000
END:VEVENT
END:VCALENDAR