BEGIN:VCALENDAR
VERSION:2.0
PRODID:https://www.schwaebisch-gmuend.de
CALSCALE:GREGORIAN
BEGIN:VEVENT
DTSTART:20260718T163000
DTEND:20260718T163000
LOCATION:Kulturzentrum Prediger - Refektorium, Johannisplatz 3, 73525 Schwäbisch Gmünd
DTSTAMP:20260325T153212
SUMMARY:Musikforum „Forschungsportal BACH“
URL;VALUE=URI:https:/www.kirchenmusik-festival.de/veranstaltung/musikforum-forschungsportal-bach.html
DESCRIPTION:Festival Europäische Kirchenmusik
UID:20260325T153212-20260718T163000-20260718T163000
END:VEVENT
END:VCALENDAR