BEGIN:VCALENDAR
VERSION:2.0
PRODID:https://www.schwaebisch-gmuend.de
CALSCALE:GREGORIAN
BEGIN:VEVENT
DTSTART:20260717T000000
DTEND:20260906T235959
LOCATION:Labor im Chor im Prediger, Bocksgasse , 73525 Schwäbisch Gmünd
DTSTAMP:20260309T094406
SUMMARY:Ausstellung: Gleichgewichtˇstörung
URL;VALUE=URI:https:/www.kirchenmusik-festival.de/veranstaltung/ausstellung-gleichgewichtstoerung.html
DESCRIPTION:In Kooperation mit dem Festival Europäische Kirchenmusik
UID:20260309T094406-20260717T000000-20260906T235959
END:VEVENT
END:VCALENDAR